BEGIN:VCALENDAR
VERSION:2.0
PRODID:-//Achilles Therapie - ECPv6.15.20//NONSGML v1.0//EN
CALSCALE:GREGORIAN
METHOD:PUBLISH
X-WR-CALNAME:Achilles Therapie
X-ORIGINAL-URL:https://achillestherapie.nl
X-WR-CALDESC:Evenementen voor Achilles Therapie
REFRESH-INTERVAL;VALUE=DURATION:PT1H
X-Robots-Tag:noindex
X-PUBLISHED-TTL:PT1H
BEGIN:VTIMEZONE
TZID:UTC
BEGIN:STANDARD
TZOFFSETFROM:+0000
TZOFFSETTO:+0000
TZNAME:UTC
DTSTART:20250101T000000
END:STANDARD
END:VTIMEZONE
BEGIN:VEVENT
DTSTART;TZID=UTC:20260519T100000
DTEND;TZID=UTC:20260519T160000
DTSTAMP:20260422T114255
CREATED:20260213T112158Z
LAST-MODIFIED:20260213T112247Z
UID:3422-1779184800-1779206400@achillestherapie.nl
SUMMARY:Bedrijfsmassage bij Idealis
DESCRIPTION:Al weer vele jaren verzorg ik de bedrijfsmassage bij Idealis in Wageningen \nMocht u als bedrijf hier meer over willen weten\, neem dan gerust geheel vrijblijvend contact met mij op.\nStuur een mail naar info@achillestherapie.nl\nOf bel; 06-22200790 \nHarry Schutte
URL:https://achillestherapie.nl/agenda/bedrijfsmassage-bij-idealis-2/
END:VEVENT
BEGIN:VEVENT
DTSTART;TZID=UTC:20260521T120000
DTEND;TZID=UTC:20260521T170000
DTSTAMP:20260422T114255
CREATED:20260213T112455Z
LAST-MODIFIED:20260213T112501Z
UID:3425-1779364800-1779382800@achillestherapie.nl
SUMMARY:Bedrijfsmassage bij Idealis
DESCRIPTION:Al weer vele jaren verzorg ik de bedrijfsmassage bij Idealis in Wageningen \nMocht u als bedrijf hier meer over willen weten\, neem dan gerust geheel vrijblijvend contact met mij op.\nStuur een mail naar info@achillestherapie.nl\nOf bel; 06-22200790 \nHarry Schutte
URL:https://achillestherapie.nl/agenda/bedrijfsmassage-bij-idealis-3/
END:VEVENT
BEGIN:VEVENT
DTSTART;TZID=UTC:20261110T100000
DTEND;TZID=UTC:20261110T170000
DTSTAMP:20260422T114255
CREATED:20260213T112709Z
LAST-MODIFIED:20260213T112714Z
UID:3427-1794304800-1794330000@achillestherapie.nl
SUMMARY:Bedrijfsmassage bij Idealis
DESCRIPTION:Al weer vele jaren verzorg ik de bedrijfsmassage bij Idealis in Wageningen Mocht u als bedrijf hier meer over willen weten\, neem dan gerust geheel vrijblijvend contact met mij op. \nStuur een mail naar info@achillestherapie.nl \nOf bel; 06-22200790 Harry Schutte
URL:https://achillestherapie.nl/agenda/bedrijfsmassage-bij-idealis-4/
END:VEVENT
END:VCALENDAR